BEGIN:VCALENDAR
VERSION:2.0
PRODID:-//The Geographic Society of Chicago - ECPv6.15.20//NONSGML v1.0//EN
CALSCALE:GREGORIAN
METHOD:PUBLISH
X-WR-CALNAME:The Geographic Society of Chicago
X-ORIGINAL-URL:https://www.geographicsociety.org
X-WR-CALDESC:Events for The Geographic Society of Chicago
REFRESH-INTERVAL;VALUE=DURATION:PT1H
X-Robots-Tag:noindex
X-PUBLISHED-TTL:PT1H
BEGIN:VTIMEZONE
TZID:America/Chicago
BEGIN:DAYLIGHT
TZOFFSETFROM:-0600
TZOFFSETTO:-0500
TZNAME:CDT
DTSTART:20240310T080000
END:DAYLIGHT
BEGIN:STANDARD
TZOFFSETFROM:-0500
TZOFFSETTO:-0600
TZNAME:CST
DTSTART:20241103T070000
END:STANDARD
BEGIN:DAYLIGHT
TZOFFSETFROM:-0600
TZOFFSETTO:-0500
TZNAME:CDT
DTSTART:20250309T080000
END:DAYLIGHT
BEGIN:STANDARD
TZOFFSETFROM:-0500
TZOFFSETTO:-0600
TZNAME:CST
DTSTART:20251102T070000
END:STANDARD
BEGIN:DAYLIGHT
TZOFFSETFROM:-0600
TZOFFSETTO:-0500
TZNAME:CDT
DTSTART:20260308T080000
END:DAYLIGHT
BEGIN:STANDARD
TZOFFSETFROM:-0500
TZOFFSETTO:-0600
TZNAME:CST
DTSTART:20261101T070000
END:STANDARD
END:VTIMEZONE
BEGIN:VEVENT
DTSTART;TZID=America/Chicago:20250715T130000
DTEND;TZID=America/Chicago:20250715T140000
DTSTAMP:20260422T034514
CREATED:20250703T141809Z
LAST-MODIFIED:20250715T135736Z
UID:5703-1752584400-1752588000@www.geographicsociety.org
SUMMARY:GSC July Travelogue Morocco
DESCRIPTION:  \n  \n  \n  \n  \n  \n  \n  \n  \n  \n  \n  \nFall in love with the vibrant colors\, stunning sites\, and electrifying energy of Morocco. World traveler Brian Michalski shares two months here. We will highlight two exceptional destinations: beachy\, alternative Taghazout\, and the blue gem of Chefchaouen. In addition to learning about culture\, history\, and economy\, we will get whisked away by ATV and camel into the desert\, along with climbing majestic Mount Toubkal. Learn about Harira soup\, chicken tagine\, vegetable couscous\, and a Q&A for dessert. \nThe Webinar will be held on July 15 at 1p.m. Click here to join! 
URL:https://www.geographicsociety.org/event/gsc-july-travelogue-morocco/
CATEGORIES:Travelogues
END:VEVENT
END:VCALENDAR