BEGIN:VCALENDAR
VERSION:2.0
PRODID:-//The Geographic Society of Chicago - ECPv6.15.20//NONSGML v1.0//EN
CALSCALE:GREGORIAN
METHOD:PUBLISH
X-WR-CALNAME:The Geographic Society of Chicago
X-ORIGINAL-URL:https://www.geographicsociety.org
X-WR-CALDESC:Events for The Geographic Society of Chicago
REFRESH-INTERVAL;VALUE=DURATION:PT1H
X-Robots-Tag:noindex
X-PUBLISHED-TTL:PT1H
BEGIN:VTIMEZONE
TZID:America/Chicago
BEGIN:DAYLIGHT
TZOFFSETFROM:-0600
TZOFFSETTO:-0500
TZNAME:CDT
DTSTART:20200308T080000
END:DAYLIGHT
BEGIN:STANDARD
TZOFFSETFROM:-0500
TZOFFSETTO:-0600
TZNAME:CST
DTSTART:20201101T070000
END:STANDARD
BEGIN:DAYLIGHT
TZOFFSETFROM:-0600
TZOFFSETTO:-0500
TZNAME:CDT
DTSTART:20210314T080000
END:DAYLIGHT
BEGIN:STANDARD
TZOFFSETFROM:-0500
TZOFFSETTO:-0600
TZNAME:CST
DTSTART:20211107T070000
END:STANDARD
BEGIN:DAYLIGHT
TZOFFSETFROM:-0600
TZOFFSETTO:-0500
TZNAME:CDT
DTSTART:20220313T080000
END:DAYLIGHT
BEGIN:STANDARD
TZOFFSETFROM:-0500
TZOFFSETTO:-0600
TZNAME:CST
DTSTART:20221106T070000
END:STANDARD
END:VTIMEZONE
BEGIN:VEVENT
DTSTART;TZID=America/Chicago:20210720T130000
DTEND;TZID=America/Chicago:20210720T140000
DTSTAMP:20260419T234024
CREATED:20210702T211347Z
LAST-MODIFIED:20210702T212748Z
UID:3841-1626786000-1626789600@www.geographicsociety.org
SUMMARY:GSC Travelogue: A Journey Across Colombia
DESCRIPTION:Tuesday\, July 20\, from 1-2 p.m. \nZoom Webinar \nPresented by: Derek Barthel \nThis presentation will share information about the many faces of the South American country of Colombia. Twice the size of France and a mini-earth unto itself\, Colombia has two oceanic coasts\, three spines of the Andes\, the Amazon Rainforest\, desert\, Caribbean islands\, and even snowcapped mountains and glaciers. \nAmong the most biodiverse nations on earth and with an array of cultures from Indigenous to Afrocolombian to Spanish descendant\, Colombia offers an incredible variety of opportunities for the interested traveler or academic. \nREGISTER \n 
URL:https://www.geographicsociety.org/event/gsc-travelogue-a-journey-across-colombia/
LOCATION:IL
CATEGORIES:Travelogues
ATTACH;FMTTYPE=image/jpeg:https://www.geographicsociety.org/wp-content/uploads/2021/07/Artwork-July-2021.jpg
END:VEVENT
END:VCALENDAR