BEGIN:VCALENDAR
VERSION:2.0
PRODID:-//The Geographic Society of Chicago - ECPv6.15.20//NONSGML v1.0//EN
CALSCALE:GREGORIAN
METHOD:PUBLISH
X-ORIGINAL-URL:https://www.geographicsociety.org
X-WR-CALDESC:Events for The Geographic Society of Chicago
REFRESH-INTERVAL;VALUE=DURATION:PT1H
X-Robots-Tag:noindex
X-PUBLISHED-TTL:PT1H
BEGIN:VTIMEZONE
TZID:America/Chicago
BEGIN:DAYLIGHT
TZOFFSETFROM:-0600
TZOFFSETTO:-0500
TZNAME:CDT
DTSTART:20200308T080000
END:DAYLIGHT
BEGIN:STANDARD
TZOFFSETFROM:-0500
TZOFFSETTO:-0600
TZNAME:CST
DTSTART:20201101T070000
END:STANDARD
BEGIN:DAYLIGHT
TZOFFSETFROM:-0600
TZOFFSETTO:-0500
TZNAME:CDT
DTSTART:20210314T080000
END:DAYLIGHT
BEGIN:STANDARD
TZOFFSETFROM:-0500
TZOFFSETTO:-0600
TZNAME:CST
DTSTART:20211107T070000
END:STANDARD
BEGIN:DAYLIGHT
TZOFFSETFROM:-0600
TZOFFSETTO:-0500
TZNAME:CDT
DTSTART:20220313T080000
END:DAYLIGHT
BEGIN:STANDARD
TZOFFSETFROM:-0500
TZOFFSETTO:-0600
TZNAME:CST
DTSTART:20221106T070000
END:STANDARD
END:VTIMEZONE
BEGIN:VEVENT
DTSTART;TZID=America/Chicago:20210921T130000
DTEND;TZID=America/Chicago:20210921T140000
DTSTAMP:20260419T203222
CREATED:20210913T134331Z
LAST-MODIFIED:20210913T134557Z
UID:4075-1632229200-1632232800@www.geographicsociety.org
SUMMARY:GSC Travelogue - Working for Water: Stories of Scarcity in  Kathmandu\, Nepal
DESCRIPTION:Tuesday\, September 21\, 2021\n1-2 p.m.\nZoom Webinar\n\nCost: FREE \nMadison Wrobley\, an anthropologist and Fullbright-National Geographic Storytelling Fellow\, will be presenting her research on water scarcity in Nepal and its effects on communities. Madison will share stories from Nepalese residents\, who have been impacted by water scarcity\, and the work that she’s contributed in order to create solutions for these marginalized communities. She hopes that by shedding light on this problem\, which affects other countries\, we can be connected with our neighbors around the world. Madison will also share general information about Nepal and her experiences living in the country. (Photo provided by Madison Wrobley). \nREGISTER
URL:https://www.geographicsociety.org/event/gsc-travelogue-working-for-water-stories-of-scarcity-in-kathmandu-nepal/
LOCATION:IL
CATEGORIES:Travelogues
ATTACH;FMTTYPE=image/jpeg:https://www.geographicsociety.org/wp-content/uploads/2021/08/Picture1.jpg
END:VEVENT
END:VCALENDAR