BEGIN:VCALENDAR
VERSION:2.0
PRODID:-//The Geographic Society of Chicago - ECPv6.15.20//NONSGML v1.0//EN
CALSCALE:GREGORIAN
METHOD:PUBLISH
X-ORIGINAL-URL:https://www.geographicsociety.org
X-WR-CALDESC:Events for The Geographic Society of Chicago
REFRESH-INTERVAL;VALUE=DURATION:PT1H
X-Robots-Tag:noindex
X-PUBLISHED-TTL:PT1H
BEGIN:VTIMEZONE
TZID:America/Chicago
BEGIN:DAYLIGHT
TZOFFSETFROM:-0600
TZOFFSETTO:-0500
TZNAME:CDT
DTSTART:20200308T080000
END:DAYLIGHT
BEGIN:STANDARD
TZOFFSETFROM:-0500
TZOFFSETTO:-0600
TZNAME:CST
DTSTART:20201101T070000
END:STANDARD
BEGIN:DAYLIGHT
TZOFFSETFROM:-0600
TZOFFSETTO:-0500
TZNAME:CDT
DTSTART:20210314T080000
END:DAYLIGHT
BEGIN:STANDARD
TZOFFSETFROM:-0500
TZOFFSETTO:-0600
TZNAME:CST
DTSTART:20211107T070000
END:STANDARD
BEGIN:DAYLIGHT
TZOFFSETFROM:-0600
TZOFFSETTO:-0500
TZNAME:CDT
DTSTART:20220313T080000
END:DAYLIGHT
BEGIN:STANDARD
TZOFFSETFROM:-0500
TZOFFSETTO:-0600
TZNAME:CST
DTSTART:20221106T070000
END:STANDARD
END:VTIMEZONE
BEGIN:VEVENT
DTSTART;TZID=America/Chicago:20211019T130000
DTEND;TZID=America/Chicago:20211019T140000
DTSTAMP:20260419T190032
CREATED:20211004T191025Z
LAST-MODIFIED:20211004T191226Z
UID:4113-1634648400-1634652000@www.geographicsociety.org
SUMMARY:GSC Travelogue > How the Bees as Seeds Experience Unfurls: A Glimpse of Iberian Apiculture Through Perfumed Stories from the Hive Mind to Collective Human Consciousness
DESCRIPTION:Tuesday\, October 19\, 2021\n\n1-2 p.m.\nZoom Webinar\n\nCost: FREE \n\nThe importance of place\, power\, and purpose resounds with the buzz of bees as they fly over a myriad of landscapes with diverse cultures as stewards. Melanie Kirby\, a self-proclaimed Nectar Nomad\, has spent the past 25 years learning from bees and their keepers around the globe. Her travels have taken her on an unfolding journey from her upbringing as a Native American in the southwestern United States\, to islands in the Pacific and Caribbean\, to northern and Mediterranean peninsulas\, and to distant continents. Her presentation will share a glimpse of one of her more recent travels to Spain\, where as a Fulbright-National Geographic Storytelling Fellow\, she followed the bloom to explore where the origins of bees meets the destiny of their keepers to collect a bouquet of stories bridging cultures\, and connecting the past to the present to the future. \nREGISTER
URL:https://www.geographicsociety.org/event/travelogue-a-glimpse-into-iberian-apiculture/
LOCATION:IL
CATEGORIES:Travelogues
ATTACH;FMTTYPE=image/png:https://www.geographicsociety.org/wp-content/uploads/2021/09/Iberia.png
END:VEVENT
END:VCALENDAR