BEGIN:VCALENDAR
VERSION:2.0
PRODID:-//The Geographic Society of Chicago - ECPv6.15.20//NONSGML v1.0//EN
CALSCALE:GREGORIAN
METHOD:PUBLISH
X-ORIGINAL-URL:https://www.geographicsociety.org
X-WR-CALDESC:Events for The Geographic Society of Chicago
REFRESH-INTERVAL;VALUE=DURATION:PT1H
X-Robots-Tag:noindex
X-PUBLISHED-TTL:PT1H
BEGIN:VTIMEZONE
TZID:America/Chicago
BEGIN:DAYLIGHT
TZOFFSETFROM:-0600
TZOFFSETTO:-0500
TZNAME:CDT
DTSTART:20210314T080000
END:DAYLIGHT
BEGIN:STANDARD
TZOFFSETFROM:-0500
TZOFFSETTO:-0600
TZNAME:CST
DTSTART:20211107T070000
END:STANDARD
BEGIN:DAYLIGHT
TZOFFSETFROM:-0600
TZOFFSETTO:-0500
TZNAME:CDT
DTSTART:20220313T080000
END:DAYLIGHT
BEGIN:STANDARD
TZOFFSETFROM:-0500
TZOFFSETTO:-0600
TZNAME:CST
DTSTART:20221106T070000
END:STANDARD
BEGIN:DAYLIGHT
TZOFFSETFROM:-0600
TZOFFSETTO:-0500
TZNAME:CDT
DTSTART:20230312T080000
END:DAYLIGHT
BEGIN:STANDARD
TZOFFSETFROM:-0500
TZOFFSETTO:-0600
TZNAME:CST
DTSTART:20231105T070000
END:STANDARD
END:VTIMEZONE
BEGIN:VEVENT
DTSTART;TZID=America/Chicago:20220118T130000
DTEND;TZID=America/Chicago:20220118T140000
DTSTAMP:20260419T144450
CREATED:20211122T183738Z
LAST-MODIFIED:20220105T202727Z
UID:4178-1642510800-1642514400@www.geographicsociety.org
SUMMARY:GSC Travelogue > Destination: Heartland History
DESCRIPTION:Tuesday\, January 18\, 2022\n1-2 p.m. | Zoom Webinar | Cost: FREE \nThe history of the Midwest is remarkable and often surprising. Fortunately\, people realized early on that it was worth preserving. \nCynthia Clampitt will take us on a tour of destinations and events across the Greater Midwest that reveal how a region famed for supplying food actually supplied so much more\, including iconic images\, legendary individuals\, and inventions that would change the world. From prehistory to present\, Wild West to Wright Brothers\, hear the tales and “visit” the museums\, living-history venues\, archaeological sites\, historic towns\, vintage farms\, reenactments\, and even restaurants that make the Midwest’s past accessible—and fun. \n(Photo provided by Cynthia Clampitt) \nREGISTER \n\nDuring registration\, please consider donating to support our Travelogues and other Geographic Society of Chicago programing. Thank you.
URL:https://www.geographicsociety.org/event/gsc-travelogue-destination-heartland/
LOCATION:IL
CATEGORIES:Travelogues
ATTACH;FMTTYPE=image/jpeg:https://www.geographicsociety.org/wp-content/uploads/2021/11/Jan-Travelogue-Pic.jpg
END:VEVENT
END:VCALENDAR