BEGIN:VCALENDAR
VERSION:2.0
PRODID:-//The Geographic Society of Chicago - ECPv6.15.20//NONSGML v1.0//EN
CALSCALE:GREGORIAN
METHOD:PUBLISH
X-WR-CALNAME:The Geographic Society of Chicago
X-ORIGINAL-URL:https://www.geographicsociety.org
X-WR-CALDESC:Events for The Geographic Society of Chicago
REFRESH-INTERVAL;VALUE=DURATION:PT1H
X-Robots-Tag:noindex
X-PUBLISHED-TTL:PT1H
BEGIN:VTIMEZONE
TZID:America/Chicago
BEGIN:DAYLIGHT
TZOFFSETFROM:-0600
TZOFFSETTO:-0500
TZNAME:CDT
DTSTART:20210314T080000
END:DAYLIGHT
BEGIN:STANDARD
TZOFFSETFROM:-0500
TZOFFSETTO:-0600
TZNAME:CST
DTSTART:20211107T070000
END:STANDARD
BEGIN:DAYLIGHT
TZOFFSETFROM:-0600
TZOFFSETTO:-0500
TZNAME:CDT
DTSTART:20220313T080000
END:DAYLIGHT
BEGIN:STANDARD
TZOFFSETFROM:-0500
TZOFFSETTO:-0600
TZNAME:CST
DTSTART:20221106T070000
END:STANDARD
BEGIN:DAYLIGHT
TZOFFSETFROM:-0600
TZOFFSETTO:-0500
TZNAME:CDT
DTSTART:20230312T080000
END:DAYLIGHT
BEGIN:STANDARD
TZOFFSETFROM:-0500
TZOFFSETTO:-0600
TZNAME:CST
DTSTART:20231105T070000
END:STANDARD
END:VTIMEZONE
BEGIN:VEVENT
DTSTART;TZID=America/Chicago:20220315T130000
DTEND;TZID=America/Chicago:20220315T140000
DTSTAMP:20260419T112823
CREATED:20211123T153244Z
LAST-MODIFIED:20220204T195716Z
UID:4198-1647349200-1647352800@www.geographicsociety.org
SUMMARY:GSC Travelogue > Easter Island: Under the Eyes of the Ancestors
DESCRIPTION:Tuesday\, March 15\, 2022\n1-2 p.m. | Zoom Webinar | Cost: FREE \nSee the sights\, hear the folklore\, and learn about the history and mystery of the famous statues and unique civilization of this remote island on every traveler’s bucket list.  Visit the Tapati Festival\, a captivating and colorful Rapa Nui cultural celebration. \n(photo by Barbara Sugden and Ron Vargason) \nREGISTER \n\nDuring registration\, please consider donating to support our Travelogues and other Geographic Society of Chicago programming. Thank you.
URL:https://www.geographicsociety.org/event/gsc-travelogue-easter-island/
LOCATION:IL
CATEGORIES:Travelogues
ATTACH;FMTTYPE=image/jpeg:https://www.geographicsociety.org/wp-content/uploads/2021/11/moai-with-eyes-1.jpg
END:VEVENT
BEGIN:VEVENT
DTSTART;TZID=America/Chicago:20220322T190000
DTEND;TZID=America/Chicago:20220322T200000
DTSTAMP:20260419T112823
CREATED:20220223T193442Z
LAST-MODIFIED:20220224T151433Z
UID:4419-1647975600-1647979200@www.geographicsociety.org
SUMMARY:Chicago's Ward Map: What Does the Future Hold?
DESCRIPTION:Join the Geographic Society of Chicago for a webinar about the current Chicago ward map and how the map has changed over the years. \nEvery 10 years\, cities go through a “redistricting” process to redraw the lines for their electoral districts based on the decennial Census. In Chicago and many other cities\, this process is often complex\, nontransparent\, and controversial. \nClifford Helm from the Chicago Lawyers’ Committee for Civil Rights and Chaundra Van Dyk from CHANGE Illinois will discuss the Chicago Ward Map Redistricting process\, looking at the process as it has happened so far\, where it’s going\, and possible alternatives. In particular\, they will discuss how this process helps and harms communities with historic and ongoing barriers to representation in our local government. \nREGISTER\nDuring registration\, please consider donating to support our webinars and other Geographic Society of Chicago programming. Thank you.\n\nAbout Our Speakers\nClifford Helm\nClifford Helm is an attorney with the Chicago Lawyers’ Committee for Civil Rights. Through community-based partnerships and coalitions\, he works on issues related to voting rights\, such as policy advocacy\, redistricting\, and election day voter protection. \nHe has also worked with community organizations\, coalitions\, nonprofits\, and cooperatives across Chicago to draft Community Benefits Agreements and develop strategies and policies to support equitable development. \nChaundra Van Dyk\nChaundra Van Dyk is the Chicago Project Manager at CHANGE Illinois. She leads their efforts to improve the city’s participatory democracy and its ethics laws. Chaundra serves as an influencer to raise awareness and aid in changing Chicago’s broken system of creating gerrymandered ward maps into a transparent\, people-focused process. Prior to joining CHANGE Illinois\, Chaundra was a prominent Community Engagement Manager in North Lawndale\, a community located in Chicago’s West side. In this role\, Chaundra developed\, implemented\, and grew community programs that enriched the personal\, financial\, and professional lives of people who had criminal backgrounds; or those experiencing significant barriers to employment. \n____ \nMap Source: WTTW
URL:https://www.geographicsociety.org/event/chicagos-ward-map-what-does-the-future-hold/
LOCATION:IL
CATEGORIES:Presentations
ATTACH;FMTTYPE=image/png:https://www.geographicsociety.org/wp-content/uploads/2022/02/CoalitionMap-2.16.22.png
END:VEVENT
END:VCALENDAR